BEGIN:VCALENDAR
VERSION:2.0
PRODID:-//The Field House Cancer Foundation - ECPv6.15.20//NONSGML v1.0//EN
CALSCALE:GREGORIAN
METHOD:PUBLISH
X-WR-CALNAME:The Field House Cancer Foundation
X-ORIGINAL-URL:https://www.fieldhousecf.com
X-WR-CALDESC:Events for The Field House Cancer Foundation
REFRESH-INTERVAL;VALUE=DURATION:PT1H
X-Robots-Tag:noindex
X-PUBLISHED-TTL:PT1H
BEGIN:VTIMEZONE
TZID:America/New_York
BEGIN:DAYLIGHT
TZOFFSETFROM:-0500
TZOFFSETTO:-0400
TZNAME:EDT
DTSTART:20240310T070000
END:DAYLIGHT
BEGIN:STANDARD
TZOFFSETFROM:-0400
TZOFFSETTO:-0500
TZNAME:EST
DTSTART:20241103T060000
END:STANDARD
BEGIN:DAYLIGHT
TZOFFSETFROM:-0500
TZOFFSETTO:-0400
TZNAME:EDT
DTSTART:20250309T070000
END:DAYLIGHT
BEGIN:STANDARD
TZOFFSETFROM:-0400
TZOFFSETTO:-0500
TZNAME:EST
DTSTART:20251102T060000
END:STANDARD
BEGIN:DAYLIGHT
TZOFFSETFROM:-0500
TZOFFSETTO:-0400
TZNAME:EDT
DTSTART:20260308T070000
END:DAYLIGHT
BEGIN:STANDARD
TZOFFSETFROM:-0400
TZOFFSETTO:-0500
TZNAME:EST
DTSTART:20261101T060000
END:STANDARD
END:VTIMEZONE
BEGIN:VEVENT
DTSTART;TZID=America/New_York:20250920T160000
DTEND;TZID=America/New_York:20250920T200000
DTSTAMP:20260424T043339
CREATED:20250728T192321Z
LAST-MODIFIED:20250808T154953Z
UID:2265-1758384000-1758398400@www.fieldhousecf.com
SUMMARY:Pitch for Hope: Summer Finale - Softball Sign Ups
DESCRIPTION:« All Events\n 				\n				\n				\n				\n					This event has passed. \n				\n				\n				\n				\n					\n	Pitch for Hope: Summer Finale – Softball Sign Ups				\n				\n				\n				\n					\n		\n			September 20\, 2025\n\n	\n\n	  @  \n\n\n4:00 pm\n\n		\n\n\n\n	\n	  -  \n\n8:00 pm\n\n\n\n	\n				\n				\n		\n		\n				\n				\n																														\n				\n				\n		\n				\n				\n									Pitch for Hope: Summer Finale– Softball Sign upsJoin us for the last hurrah of the summer at Kiwanis Recreation Park!  Join The Field House Cancer Foundation for our Pitch For Hope: Summer Finale Event—a day of community\, compassion\, and competition to support families affected by brain cancer. Whether you’re a seasoned player or just in it for the fun\, this event is open to all skill levels Ages 18 +. Home Run Derby will be offered for Ages 10-18. Rally your team or sign up solo—we’ll match you up! What to Expect: Friendly softball gamesRaffles & prizesFood & musicCommunity connection for a causeKids ZoneRegister now and help us bring hope to the families who need it most. See you at Kiwanis Recreation Park! 								\n				\n				\n				\n									\n					\n						\n									Sign Up Today!\n					\n					\n				\n								\n				\n				\n				\n				\n						\n					\n			\n						\n				\n					\n	\n	Website:	\n	https://www.eventbrite.com/e/pitch-for-hope-summer-finale-softball-sign-ups-registration-1435742306889?aff=oddtdtcreator\n\n				\n				\n				\n				\n					\n	\n\n	Categories:	\n		Softball	\n\n				\n				\n					\n		\n				\n			\n						\n				\n					\n				\n				\n	\n	Kiwanis Recreation Park\n	\n	\n\n301 Latimore Street\n	\n		\n		Painesville\,\n\n	Ohio\n\n	44077\n\n\n\n\n\n	+ Google Map \n\n\n	\n					\n						\n	 \n\n\n	\n	 \n\n\n\n	\n\n\n\n		\n	\n				\n				\n				\n				\n					\n	\n		\n\n	\n	Add to calendar	\n		\n	\n\n		\n			\n									\n	Google Calendar\n\n									\n	iCalendar\n\n									\n	Outlook 365\n\n									\n	Outlook Live\n\n							\n		\n\n		\n	\n\n				\n				\n					\n		\n					\n		\n				\n						\n					\n			\n						\n				\n					\n	\n		\n\n				The Field House Fairway Fore Hope	\n\n\n		\n	\n		5K Run for Hope
URL:https://www.fieldhousecf.com/event/pitch-for-hope-summer-finale-softball-sign-ups/
LOCATION:Kiwanis Recreation Park\, 301 Latimore Street\, Painesville\, Ohio\, 44077
CATEGORIES:Softball
ATTACH;FMTTYPE=image/jpeg:https://www.fieldhousecf.com/wp-content/uploads/2025/07/softball-event.jpg
END:VEVENT
END:VCALENDAR